BEGIN:VCALENDAR
VERSION:2.0
PRODID:-//wp-events-plugin.com//7.2.3.1//EN
BEGIN:VEVENT
UID:15@rubyredrunning.com
DTSTART;TZID=Europe/London;VALUE=DATE:20250614
DTEND;TZID=Europe/London;VALUE=DATE:20250615
DTSTAMP:20250516T152316Z
URL:https://rubyredrunning.com/events/branscombe-international-trail-champ
 ionships/
SUMMARY:Branscombe Social Run & BBQ
DESCRIPTION:Join us for a social run in the beautiful Branscombe valley and
  then a BBQ and drinks on the beach to celebrate the summer and all things
  trail running. \n\nFor anyone who has helped out at one of our events thi
 s is our opportunity to thank you for making our events what they are...Am
 azing
ATTACH;FMTTYPE=image/jpeg:https://rubyredrunning.com/wp-content/uploads/20
 25/02/IMG-20240609-WA0024.jpg
CATEGORIES:Event,Trail Run
END:VEVENT
BEGIN:VTIMEZONE
TZID:Europe/London
X-LIC-LOCATION:Europe/London
BEGIN:DAYLIGHT
DTSTART:20250330T020000
TZOFFSETFROM:+0000
TZOFFSETTO:+0100
TZNAME:BST
END:DAYLIGHT
END:VTIMEZONE
END:VCALENDAR