BEGIN:VCALENDAR
VERSION:2.0
PRODID:-//wp-events-plugin.com//7.2.3.1//EN
BEGIN:VEVENT
UID:28@rubyredrunning.com
DTSTART;TZID=Europe/London;VALUE=DATE:20270214
DTEND;TZID=Europe/London;VALUE=DATE:20270215
DTSTAMP:20260228T153634Z
URL:https://rubyredrunning.com/events/dalwood-3-hills-2027/
SUMMARY:Dalwood 3 Hills 2027
DESCRIPTION:Returning again in 2027\, the ever popular Dalwood 3 Hills chal
 lenge features a 10 mile multi-terrain run around the beautiful countrysid
 e of Dalwood. There is also a 5km run incorporating some of the best bits 
 of the 10 mile route.\n\n14th February 2027\n\nExpect mud\, expect river c
 rossings and expect hills.... most of all expect to have a great time! Boo
 k early\, this is always a sell out event.\n\nClosing date 10th February 9
 pm 2026\n\n[icon name="info" style="solid" class="" unprefixed_class=""] 
 Click here to see further race information
ATTACH;FMTTYPE=image/jpeg:https://rubyredrunning.com/wp-content/uploads/20
 24/07/448359988_443280611788303_7713917754093311839_n.jpg
CATEGORIES:Event,Trail Run
LOCATION:Dalwood Village Hall\, Dalwood\, Axminster\, Devon\, EX13 7EH\, Un
 ited Kingdom
X-APPLE-STRUCTURED-LOCATION;VALUE=URI;X-ADDRESS=Dalwood\, Axminster\, Devon
 \, EX13 7EH\, United Kingdom;X-APPLE-RADIUS=100;X-TITLE=Dalwood Village Ha
 ll:geo:0,0
END:VEVENT
BEGIN:VTIMEZONE
TZID:Europe/London
X-LIC-LOCATION:Europe/London
BEGIN:STANDARD
DTSTART:20261025T010000
TZOFFSETFROM:+0100
TZOFFSETTO:+0000
TZNAME:GMT
END:STANDARD
END:VTIMEZONE
END:VCALENDAR