BEGIN:VCALENDAR
VERSION:2.0
PRODID:-//wp-events-plugin.com//7.2.3.1//EN
BEGIN:VEVENT
UID:27@rubyredrunning.com
DTSTART;TZID=Europe/London;VALUE=DATE:20260719
DTEND;TZID=Europe/London;VALUE=DATE:20260720
DTSTAMP:20260228T144915Z
URL:https://rubyredrunning.com/events/dalwood-fayre-2025-2/
SUMMARY:Dalwood Fayre 2026
DESCRIPTION:Returning again in 2026 for the fourth year running\, the ever 
 popular Dalwood Fayre features a 10 km multi-terrain run around the beauti
 ful countryside of Dalwood. There is also a 3km run incorporating open fie
 lds and the crazy 'zig zag' section.\n\n19th July 2026\n\nExpect mud\, exp
 ect river crossings and expect hills.... most of all expect to have a grea
 t time! .\n\nClosing date 15th July 2025
ATTACH;FMTTYPE=image/jpeg:https://rubyredrunning.com/wp-content/uploads/20
 24/07/Dalrun56.jpg
CATEGORIES:Event,Trail Run
LOCATION:Dalwood Village Hall\, Dalwood\, Axminster\, Devon\, EX13 7EH\, Un
 ited Kingdom
X-APPLE-STRUCTURED-LOCATION;VALUE=URI;X-ADDRESS=Dalwood\, Axminster\, Devon
 \, EX13 7EH\, United Kingdom;X-APPLE-RADIUS=100;X-TITLE=Dalwood Village Ha
 ll:geo:0,0
END:VEVENT
BEGIN:VTIMEZONE
TZID:Europe/London
X-LIC-LOCATION:Europe/London
BEGIN:DAYLIGHT
DTSTART:20260329T020000
TZOFFSETFROM:+0000
TZOFFSETTO:+0100
TZNAME:BST
END:DAYLIGHT
END:VTIMEZONE
END:VCALENDAR