BEGIN:VCALENDAR
VERSION:2.0
PRODID:-//wp-events-plugin.com//7.2.3.1//EN
BEGIN:VEVENT
UID:25@rubyredrunning.com
DTSTART;TZID=Europe/London;VALUE=DATE:20260404
DTEND;TZID=Europe/London;VALUE=DATE:20260405
DTSTAMP:20251102T163634Z
URL:https://rubyredrunning.com/events/east-devon-round-2026-recce-run-4/
SUMMARY:East Devon Round 2026 Recce Run 4
DESCRIPTION:A series of free social runs\, taking in the East Devon Round U
 ltra route.
ATTACH;FMTTYPE=image/jpeg:https://rubyredrunning.com/wp-content/uploads/20
 24/07/Edr556.jpg
CATEGORIES:Guided Run
END:VEVENT
BEGIN:VTIMEZONE
TZID:Europe/London
X-LIC-LOCATION:Europe/London
BEGIN:DAYLIGHT
DTSTART:20260329T020000
TZOFFSETFROM:+0000
TZOFFSETTO:+0100
TZNAME:BST
END:DAYLIGHT
END:VTIMEZONE
END:VCALENDAR