BEGIN:VCALENDAR
VERSION:2.0
PRODID:-//wp-events-plugin.com//7.2.3.1//EN
BEGIN:VEVENT
UID:18@rubyredrunning.com
DTSTART;TZID=Europe/London;VALUE=DATE:20260502
DTEND;TZID=Europe/London;VALUE=DATE:20260503
DTSTAMP:20260419T193103Z
URL:https://rubyredrunning.com/events/east-devon-round-2026/
SUMMARY:East Devon Round 2026
DESCRIPTION:T﻿his trail ultra is seriously one for the books. Taking on 6
 7 miles of the stunning Devonshire countryside\, you will pass through 2 A
 reas of Outstanding Natural Beauty. 
ATTACH;FMTTYPE=image/jpeg:https://rubyredrunning.com/wp-content/uploads/20
 24/07/IMG_2191.jpg
CATEGORIES:Event
LOCATION:Honiton\, Offwell\, Honiton\, Exeter\, EX14 9SB\, United Kingdom
X-APPLE-STRUCTURED-LOCATION;VALUE=URI;X-ADDRESS=Offwell\, Honiton\, Exeter\
 , EX14 9SB\, United Kingdom;X-APPLE-RADIUS=100;X-TITLE=Honiton:geo:0,0
END:VEVENT
BEGIN:VTIMEZONE
TZID:Europe/London
X-LIC-LOCATION:Europe/London
BEGIN:DAYLIGHT
DTSTART:20260329T020000
TZOFFSETFROM:+0000
TZOFFSETTO:+0100
TZNAME:BST
END:DAYLIGHT
END:VTIMEZONE
END:VCALENDAR