BEGIN:VCALENDAR
VERSION:2.0
PRODID:-//wp-events-plugin.com//7.2.3.1//EN
BEGIN:VEVENT
UID:10@rubyredrunning.com
DTSTART;TZID=Europe/London;VALUE=DATE:20250323
DTEND;TZID=Europe/London;VALUE=DATE:20250324
DTSTAMP:20250320T231543Z
URL:https://rubyredrunning.com/events/east-devon-round-recce-runs-3/
SUMMARY:East Devon Round Recce Run 3
DESCRIPTION:A series of free social runs\, taking in the East Devon Round U
 ltra route.
ATTACH;FMTTYPE=image/jpeg:https://rubyredrunning.com/wp-content/uploads/20
 24/07/Edr556.jpg
CATEGORIES:Guided Run
END:VEVENT
BEGIN:VTIMEZONE
TZID:Europe/London
X-LIC-LOCATION:Europe/London
BEGIN:STANDARD
DTSTART:20241027T010000
TZOFFSETFROM:+0100
TZOFFSETTO:+0000
TZNAME:GMT
END:STANDARD
END:VTIMEZONE
END:VCALENDAR