BEGIN:VCALENDAR
VERSION:2.0
PRODID:-//wp-events-plugin.com//7.2.3.1//EN
BEGIN:VEVENT
UID:26@rubyredrunning.com
DTSTART;TZID=Europe/London:20261018T084500
DTEND;TZID=Europe/London:20261018T150000
DTSTAMP:20251128T152119Z
URL:https://rubyredrunning.com/events/stockland-scamper-2026/
SUMMARY:Stockland Scamper 2026
DESCRIPTION:Stockland Scamper 2026\nReturning again in 2026\, the Stockland
  Primary Academy PTA and Ruby Red Running have teamed up to revive the eve
 r popular Stockland Scamper\, featuring a 10km\, 5km and 3km multi-terrain
  run around the beautiful countryside of Stockland\, located near Honiton\
 , East Devon.\nSunday 18th October 2025\nExpect mud\, expect river crossin
 gs and expect hills.... most of all expect to have a great time! Refreshme
 nts and cake will be on sale\, handmade by the PTA\, a perfect treat after
  a challenging trail race.\nEntries close Thursday 15th October 2026
ATTACH;FMTTYPE=image/jpeg:https://rubyredrunning.com/wp-content/uploads/20
 25/11/IMG_5820.jpg
CATEGORIES:Event,Trail Run
LOCATION:Stockland\, Stockland\, Honiton EX14 9EF\, Honiton\, Devon\, EX14 
 9EF\, South-West\, United Kingdom
X-APPLE-STRUCTURED-LOCATION;VALUE=URI;X-ADDRESS=Stockland\, Honiton EX14 9E
 F\, Honiton\, Devon\, EX14 9EF\, South-West\, United Kingdom;X-APPLE-RADIU
 S=100;X-TITLE=Stockland:geo:0,0
END:VEVENT
BEGIN:VTIMEZONE
TZID:Europe/London
X-LIC-LOCATION:Europe/London
BEGIN:DAYLIGHT
DTSTART:20260329T020000
TZOFFSETFROM:+0000
TZOFFSETTO:+0100
TZNAME:BST
END:DAYLIGHT
END:VTIMEZONE
END:VCALENDAR