BEGIN:VCALENDAR
VERSION:2.0
PRODID:-//wp-events-plugin.com//7.2.3.1//EN
BEGIN:VEVENT
UID:7@rubyredrunning.com
DTSTART;TZID=Europe/London;VALUE=DATE:20241122
DTEND;TZID=Europe/London;VALUE=DATE:20241125
DTSTAMP:20241006T134757Z
URL:https://rubyredrunning.com/events/umtb-arc-of-attrition-training-weeke
 nd/
SUMMARY:Cornish Coastline training weekend
DESCRIPTION:\n\nIdeal for anyone running 50mile or 100mile races on the S
 WCP in Cornwall in Jan 2025.\n\n\nCome and join us for a social training w
 eekend as we run key parts of the Cornish Coastline between Coverack and P
 orthtowan.\n\n\nArrive Friday night\, meet other runners for informal dinn
 er as we talk through the planned runs and share our experiences of the wo
 nderfully frightening Arc of Attrition.\n\n\nSaturday: Aim of day is to g
 et time on feet and scope out key aspects of the route. Runs will be split
  into a morning run of approx 13 miles and then an evening/night run of up
 to 20miles\n\nSunday: Enjoy a daylight run through the Dunes of Doom\n\nNo
 te: Participants will be expected to carry mandatory kit.\n\n[icon name="i
 nfo" style="solid" class="" unprefixed_class=""]  Click here to see furth
 er details\n&nbsp\;
ATTACH;FMTTYPE=image/jpeg:https://rubyredrunning.com/wp-content/uploads/20
 24/09/IMG-20240130-WA0000.jpg
CATEGORIES:Guided Run
END:VEVENT
BEGIN:VTIMEZONE
TZID:Europe/London
X-LIC-LOCATION:Europe/London
BEGIN:STANDARD
DTSTART:20241027T010000
TZOFFSETFROM:+0100
TZOFFSETTO:+0000
TZNAME:GMT
END:STANDARD
END:VTIMEZONE
END:VCALENDAR